BEGIN:VCALENDAR
PRODID:-//eluceo/ical//2.0/EN
VERSION:2.0
CALSCALE:GREGORIAN
BEGIN:VEVENT
UID:7ea1c702ca714eea90921f7736f02506
DTSTAMP:20260425T014749Z
SUMMARY:Finissage "Schattenfiguren und Lichtgrau - Das Künstlerpaar Gisela
  und Hermann Bachmann"
DESCRIPTION:
DTSTART:20260208T150000
DTEND:20260208T163000
LOCATION:Museum Wilhelm Morgner\, Thomästraße 1\, 59494 Soest\, 
END:VEVENT
BEGIN:VTIMEZONE
TZID:Europe/Berlin
BEGIN:STANDARD
DTSTART:20260208T150000
TZNAME:CET
TZOFFSETTO:+0100
TZOFFSETFROM:+0100
END:STANDARD
END:VTIMEZONE
END:VCALENDAR
