BEGIN:VCALENDAR
PRODID:-//eluceo/ical//2.0/EN
VERSION:2.0
CALSCALE:GREGORIAN
BEGIN:VEVENT
UID:6fb90db09a197bcf62302537650e656a
DTSTAMP:20260424T180728Z
SUMMARY:Altstadtführung
DESCRIPTION:Unsere Gästeführer haben viel zu erzählen. Sie begleiten Sie
  gern auf Ihrer Erkundungstour durch die Altstadt\, veranschaulichen Ihnen
  die historische Entwicklung der Stadt und erläutern sakrale und moderne 
 Kunst. Und so manches augenzwinkernd erzählte Anekdötchen und Histörche
 n gehört selbstverständlich auch dazu. Neben einem Gang durch die histor
 ische Altstadt von Soest\, umfasst die Führung auch die Innenbesichtigung
  mindestens einer Kirche.
DTSTART:20260528T113000
DTEND:20260528T130000
LOCATION:Teichsmühle\, Teichsmühlengasse 3\, 59494 Soest\, 
END:VEVENT
BEGIN:VTIMEZONE
TZID:Europe/Berlin
BEGIN:DAYLIGHT
DTSTART:20260528T113000
TZNAME:CEST
TZOFFSETTO:+0200
TZOFFSETFROM:+0200
END:DAYLIGHT
END:VTIMEZONE
END:VCALENDAR
