BEGIN:VCALENDAR
PRODID:-//eluceo/ical//2.0/EN
VERSION:2.0
CALSCALE:GREGORIAN
BEGIN:VEVENT
UID:05dd593e18d85c53221671757b8c13a3
DTSTAMP:20260424T161627Z
SUMMARY:Soester Menü-Safari
DESCRIPTION:Die Frage\, ob es sich bei diesem Angebot eigentlich um eine St
 adtführung oder ein ausgiebiges und ungewöhnliches Abendessen handelt\, 
 kann man nur so beantworten: sowohl als auch. \n\nDie Soester Menü-Safari
  nimmt Sie mit auf eine Reise durch eine über tausendjährige Stadtgeschi
 chte\, die sich auf dem Weg durch die historische Altstadt an vielen Baude
 nkmälern\, Profanbauten\, Straßen und Plätzen wunderbar ablesen und spa
 nnend kommentieren lässt. \n\nUnsere Gästeführer begleiten Sie auf dies
 er ungewöhnlichen Entdeckungstour jedoch nicht nur durch die Straßen\, s
 ondern auch entlang verschiedener Gastronomie-Betriebe\, die gemeinsam ein
  regionaltypisches westfälisches – modern komponiertes – Menü vorber
 eitet haben\, dass in vier verschiedene Lokalen eingenommen wird. Hierzu g
 ehört - als eine der beiden Vorspeisen - selbstverständlich auch das soe
 sttypische „Westfälische Abendmahl“. \n\nAuf diese Weise lernt man ei
 ne Stadt erstaunlich schnell und sehr speziell kennen und das auf ganz ent
 spannte und gesellige Weise.
DTSTART:20260521T170000
DTEND:20260521T210000
LOCATION:Brauhaus Zwiebel\, Ulricherstraße 24\, 59494 Soest\, 
END:VEVENT
BEGIN:VTIMEZONE
TZID:Europe/Berlin
BEGIN:DAYLIGHT
DTSTART:20260521T170000
TZNAME:CEST
TZOFFSETTO:+0200
TZOFFSETFROM:+0200
END:DAYLIGHT
END:VTIMEZONE
END:VCALENDAR
