BEGIN:VCALENDAR
PRODID:-//eluceo/ical//2.0/EN
VERSION:2.0
CALSCALE:GREGORIAN
BEGIN:VEVENT
UID:05124b59f8abf241a754c1454b0ce821
DTSTAMP:20260424T161727Z
SUMMARY:Altstadtführung
DESCRIPTION:Unsere Gästeführer haben viel zu erzählen. Sie begleiten Sie
  gern auf Ihrer Erkundungstour durch die Altstadt\, veranschaulichen Ihnen
  die historische Entwicklung der Stadt und erläutern sakrale und moderne 
 Kunst. Und so manches augenzwinkernd erzählte Anekdötchen und Histörche
 n gehört selbstverständlich auch dazu. Neben einem Gang durch die histor
 ische Altstadt von Soest\, umfasst die Führung auch die Innenbesichtigung
  mindestens einer Kirche.
DTSTART:20260321T143000
DTEND:20260321T160000
LOCATION:Teichsmühle\, Teichsmühlengasse 3\, 59494 Soest\, 
END:VEVENT
BEGIN:VTIMEZONE
TZID:Europe/Berlin
BEGIN:STANDARD
DTSTART:20260321T143000
TZNAME:CET
TZOFFSETTO:+0100
TZOFFSETFROM:+0100
END:STANDARD
END:VTIMEZONE
END:VCALENDAR
