BEGIN:VCALENDAR
PRODID:-//eluceo/ical//2.0/EN
VERSION:2.0
CALSCALE:GREGORIAN
BEGIN:VEVENT
UID:27aba163a6ea6a6b1060633649a38c38
DTSTAMP:20260425T025152Z
SUMMARY:Altstadtführung
DESCRIPTION:Unsere Gästeführer haben viel zu erzählen. Sie begleiten Sie
  gern auf Ihrer Erkundungstour durch die Altstadt\, veranschaulichen Ihnen
  die historische Entwicklung der Stadt und erläutern sakrale und moderne 
 Kunst. Und so manches augenzwinkernd erzählte Anekdötchen und Histörche
 n gehört selbstverständlich auch dazu. Neben einem Gang durch die histor
 ische Altstadt von Soest\, umfasst die Führung auch die Innenbesichtigung
  mindestens einer Kirche.
DTSTART:20260328T143000
DTEND:20260328T160000
LOCATION:Teichsmühle\, Teichsmühlengasse 3\, 59494 Soest\, 
END:VEVENT
BEGIN:VTIMEZONE
TZID:Europe/Berlin
BEGIN:STANDARD
DTSTART:20260328T143000
TZNAME:CET
TZOFFSETTO:+0100
TZOFFSETFROM:+0100
END:STANDARD
END:VTIMEZONE
END:VCALENDAR
