BEGIN:VCALENDAR
PRODID:-//eluceo/ical//2.0/EN
VERSION:2.0
CALSCALE:GREGORIAN
BEGIN:VEVENT
UID:da1d0500649496e7df8d8daf46abafd3
DTSTAMP:20260424T232818Z
SUMMARY:Altstadtführung
DESCRIPTION:Unsere Gästeführer haben viel zu erzählen. Sie begleiten Sie
  gern auf Ihrer Erkundungstour durch die Altstadt\, veranschaulichen Ihnen
  die historische Entwicklung der Stadt und erläutern sakrale und moderne 
 Kunst. Und so manches augenzwinkernd erzählte Anekdötchen und Histörche
 n gehört selbstverständlich auch dazu. Neben einem Gang durch die histor
 ische Altstadt von Soest\, umfasst die Führung auch die Innenbesichtigung
  mindestens einer Kirche.
DTSTART:20260613T143000
DTEND:20260613T160000
LOCATION:Teichsmühle\, Teichsmühlengasse 3\, 59494 Soest\, 
END:VEVENT
BEGIN:VTIMEZONE
TZID:Europe/Berlin
BEGIN:DAYLIGHT
DTSTART:20260613T143000
TZNAME:CEST
TZOFFSETTO:+0200
TZOFFSETFROM:+0200
END:DAYLIGHT
END:VTIMEZONE
END:VCALENDAR
