BEGIN:VCALENDAR
PRODID:-//eluceo/ical//2.0/EN
VERSION:2.0
CALSCALE:GREGORIAN
BEGIN:VEVENT
UID:7d31f2854fc788794c3944998cd6dcaa
DTSTAMP:20260425T042400Z
SUMMARY:"Schwarzbrot\, Bier und Bullenauge"
DESCRIPTION:Ein geschichtlich-amüsanter Genuss-Streifzug durch Soest inklu
 sive Verkostung von Soester Kaffee\, Vortrag durch einen Braumeister und E
 inkehr auf ein Soester Abendmahl im "Brauhaus Zwiebel".\n\nDauer: 3 Stunde
 n
DTSTART:20260411T143000
DTEND:20260411T173000
LOCATION:Rathausbögen\, Rathausstraße\, 59494 Soest\, 
END:VEVENT
BEGIN:VTIMEZONE
TZID:Europe/Berlin
BEGIN:DAYLIGHT
DTSTART:20260411T143000
TZNAME:CEST
TZOFFSETTO:+0200
TZOFFSETFROM:+0200
END:DAYLIGHT
END:VTIMEZONE
END:VCALENDAR
