BEGIN:VCALENDAR
PRODID:-//eluceo/ical//2.0/EN
VERSION:2.0
CALSCALE:GREGORIAN
BEGIN:VEVENT
UID:d682fb1147b4a51034c8cb4068e02748
DTSTAMP:20260424T233034Z
SUMMARY:"Ladengeflüster"
DESCRIPTION:Auf Einkaufs-Entdeckungstour mit sachkundiger Begleitung und kl
 einen Extras. Wo gibt´s denn sowas?! In Soest natürlich. Gerade zu den k
 leinen Geschäften mit besonderen Angeboten oder spezieller Historie gibt 
 es Spannendes zu erzählen oder hinter vorgehaltener Hand zu flüstern. An
 ekdoten\, Soest-Spezifisches und natürlich reichlich Insidertipps. Fußg
 ängerzone kann schließlich jeder. "Ladengeflüster" erzählt auch die "S
 torys behind". Auch für vermeintliche Soest-Kenner geeignet...\n\nDauer: 
 2\,5 Stunden
DTSTART:20260213T140000
DTEND:20260213T163000
LOCATION:Teichsmühle\, Teichsmühlengasse 3\, 59494 Soest\, 
END:VEVENT
BEGIN:VTIMEZONE
TZID:Europe/Berlin
BEGIN:STANDARD
DTSTART:20260213T140000
TZNAME:CET
TZOFFSETTO:+0100
TZOFFSETFROM:+0100
END:STANDARD
END:VTIMEZONE
END:VCALENDAR
