BEGIN:VCALENDAR
PRODID:-//eluceo/ical//2.0/EN
VERSION:2.0
CALSCALE:GREGORIAN
BEGIN:VEVENT
UID:abe4d20ccf7e064cfc45b0c1cd80e500
DTSTAMP:20260424T233110Z
SUMMARY:"Ladengeflüster"
DESCRIPTION:Auf Einkaufs-Entdeckungstour mit sachkundiger Begleitung und kl
 einen Extras. Wo gibt´s denn sowas?! In Soest natürlich. Gerade zu den k
 leinen Geschäften mit besonderen Angeboten oder spezieller Historie gibt 
 es Spannendes zu erzählen oder hinter vorgehaltener Hand zu flüstern. An
 ekdoten\, Soest-Spezifisches und natürlich reichlich Insidertipps. Fußg
 ängerzone kann schließlich jeder. "Ladengeflüster" erzählt auch die "S
 torys behind". Auch für vermeintliche Soest-Kenner geeignet...\n\nDauer: 
 2\,5 Stunden
DTSTART:20260417T140000
DTEND:20260417T163000
LOCATION:Teichsmühle\, Teichsmühlengasse 3\, 59494 Soest\, 
END:VEVENT
BEGIN:VTIMEZONE
TZID:Europe/Berlin
BEGIN:DAYLIGHT
DTSTART:20260417T140000
TZNAME:CEST
TZOFFSETTO:+0200
TZOFFSETFROM:+0200
END:DAYLIGHT
END:VTIMEZONE
END:VCALENDAR
