BEGIN:VCALENDAR
PRODID:-//eluceo/ical//2.0/EN
VERSION:2.0
CALSCALE:GREGORIAN
BEGIN:VEVENT
UID:eb595e02d171ed56f639dd1fd80ce25f
DTSTAMP:20260424T180546Z
SUMMARY:Sie lebten mit und unter uns - auf den Spuren unserer jüdischen Na
 chbarn
DESCRIPTION:Schon im Mittelalter wurden jüdische Mitbürger und andere Min
 derheiten bedrängt\, verfolgt und ausgegrenzt. Dennoch konnten sie immer 
 wieder Fuß fassen und einen Platz im gesellschaftlichen Leben finden. Sie
  waren Teil der Gemeinschaft\, auch wenn ihnen nicht immer angemessen Resp
 ekt und Anerkennung gezeigt wurde. \nMit dem aufkommenden Nationalsozialis
 mus änderte sich die Situation dramatisch: Diffamierungen\, Verleumdungen
 \, Entmenschlichung und barbarischer Terror gewannen die Oberhand und füh
 rten über Isolation\, Vertreibung und Inhaftierung fast immer zum Tod. \n
 Der Rundgang durch die Stadt beginnt mit einem Blick auf die Historie der 
 jüdischen Bevölkerung im Mittelalter und erläutert die Geschichte der j
 üdischen Mitbürger in Soest. Er führt zu einzelnen Stationen\, Häusern
 \, aus denen die Menschen unter den Augen der Öffentlichkeit vertrieben w
 urden. Sie erfahren etwas über ihr Leben\, ihren Lebensweg und ihr Schick
 sal. Eine Station ist der Ort\, an dem die ehemalige Synagoge stand\; in B
 rand gesetzt während der Soester Kirmes 1938.\n\nDer Rundgang wird kosten
 los angeboten.
DTSTART:20260315T140000
DTEND:20260315T160000
LOCATION:Teichsmühle\, Teichsmühlengasse 3\, 59494 Soest\, 
END:VEVENT
BEGIN:VTIMEZONE
TZID:Europe/Berlin
BEGIN:STANDARD
DTSTART:20260315T140000
TZNAME:CET
TZOFFSETTO:+0100
TZOFFSETFROM:+0100
END:STANDARD
END:VTIMEZONE
END:VCALENDAR
