BEGIN:VCALENDAR
PRODID:-//eluceo/ical//2.0/EN
VERSION:2.0
CALSCALE:GREGORIAN
BEGIN:VEVENT
UID:3d9f75cb21e310a011eededcbd0c6496
DTSTAMP:20260425T025132Z
SUMMARY:Mondschein - Promenade
DESCRIPTION:Entlang an Grünsandsteinmauern und idyllischen Fachwerkzeilen 
 entführt Sie der Gästeführer auf eine abendliche Reise durch Soest. Pet
 roleumlampen leuchten dabei den Weg.
DTSTART:20260313T193000
DTEND:20260313T210000
LOCATION:Domplatz\, Domplatz\, 59494 Soest\, 
END:VEVENT
BEGIN:VTIMEZONE
TZID:Europe/Berlin
BEGIN:STANDARD
DTSTART:20260313T193000
TZNAME:CET
TZOFFSETTO:+0100
TZOFFSETFROM:+0100
END:STANDARD
END:VTIMEZONE
END:VCALENDAR
