BEGIN:VCALENDAR
PRODID:-//eluceo/ical//2.0/EN
VERSION:2.0
CALSCALE:GREGORIAN
BEGIN:VEVENT
UID:8527967dc6bf106012cef935ad01ecef
DTSTAMP:20260425T014754Z
SUMMARY:Historische Gaststättentour
DESCRIPTION:Eine Führung durch die Historie der vielen Kneipen\, die Raum 
 für viele Anekdoten und auch kleine "geistige Päuschen" bietet (inkl. 2 
 Getränke).\nFür dieses Angebot ist die Buchung eines Tickets über unser
 en Ticketshop für Stadtführungen notwendig. \nWeitere Informationen vora
 b erhalten Sie in der Tourist Information in der Teichsmühle.
DTSTART:20260510T143000
DTEND:20260510T160000
LOCATION:Teichsmühle\, Teichsmühlengasse 3\, 59494 Soest\, 
END:VEVENT
BEGIN:VTIMEZONE
TZID:Europe/Berlin
BEGIN:DAYLIGHT
DTSTART:20260510T143000
TZNAME:CEST
TZOFFSETTO:+0200
TZOFFSETFROM:+0200
END:DAYLIGHT
END:VTIMEZONE
END:VCALENDAR
