BEGIN:VCALENDAR
PRODID:-//eluceo/ical//2.0/EN
VERSION:2.0
CALSCALE:GREGORIAN
BEGIN:VEVENT
UID:e2c12454d19ff18233fb8d53ab84cac9
DTSTAMP:20260425T024947Z
SUMMARY:Soester Gassen - Intermezzo
DESCRIPTION:Gästeführung durch die Altstadt mit verschiedenen szenarische
 n Darstellungen und gewandeten Laiendarstellern.\nDauer: 90 Minuten
DTSTART:20260425T183000
DTEND:20260425T200000
LOCATION:Vreithof Soest\, Am Vreithof\, 59494 Soest\, 
END:VEVENT
BEGIN:VTIMEZONE
TZID:Europe/Berlin
BEGIN:DAYLIGHT
DTSTART:20260425T183000
TZNAME:CEST
TZOFFSETTO:+0200
TZOFFSETFROM:+0200
END:DAYLIGHT
END:VTIMEZONE
END:VCALENDAR
