BEGIN:VCALENDAR
PRODID:-//eluceo/ical//2.0/EN
VERSION:2.0
CALSCALE:GREGORIAN
BEGIN:VEVENT
UID:e9e067592a3c24cd86cdb5549df95e3e
DTSTAMP:20260425T042340Z
SUMMARY:Der Fremde
DESCRIPTION:Algier\, 1938. Meursault\, ein stiller\, unauffälliger Angeste
 llter Anfang dreißig\, nimmt ohne sichtbare Gefühlsregung an der Beerdig
 ung seiner Mutter teil. Am nächsten Tag beginnt er eine Affäre mit seine
 r früheren Kollegin Marie und kehrt in seinen gewohnten Alltag zurück. D
 ieser wird jedoch bald durch seinen Nachbarn Raymond gestört\, der Meursa
 ult in seine zwielichtigen Machenschaften hineinzieht – bis es an einem 
 glühend heißen Tag am Strand zu einem schicksalhaften Ereignis kommt.\n\
 nMit seiner meisterlichen Neuinterpretation von Albert Camus’ gleichnami
 gem Literaturklassiker gelingt François Ozon ein virtuoses Werk von zeitl
 oser Relevanz. In betörenden Schwarzweißbildern erzählt und getragen vo
 n einem erlesenen Ensemble um Benjamin Voisin\, Rebecca Marder und Pierre 
 Lottin\, markiert der Film einen künstlerischen Höhepunkt in Ozons viels
 chichtigem Œuvre. DER FREMDE feierte seine umjubelte Weltpremiere im Wett
 bewerb der 82. Internationalen Filmfestspiele von Venedig.<br>Drama\, Lite
 raturverfilmung\, FR\, 2025\, 122Min. <br>Altersfreigabe: ab 12<br>Sprache
 : OmU<br>Darsteller: Benjamin  Voisin\, Rebecca  Marder\, Pierre  Lottin\,
  Swann  Arlaud\, Denis  Lavant<br>Regie: François Ozon<br>
DTSTART:20260202T200000
DTEND:20260202T230000
LOCATION:Schlachthofkino\, Ulrichertor 4\, 59494 Soest\, 
END:VEVENT
BEGIN:VTIMEZONE
TZID:Europe/Berlin
BEGIN:STANDARD
DTSTART:20260202T200000
TZNAME:CET
TZOFFSETTO:+0100
TZOFFSETFROM:+0100
END:STANDARD
END:VTIMEZONE
END:VCALENDAR
