BEGIN:VCALENDAR
PRODID:-//eluceo/ical//2.0/EN
VERSION:2.0
CALSCALE:GREGORIAN
BEGIN:VEVENT
UID:9c6c23bd97e293c6f55e27cb4f8ba759
DTSTAMP:20260425T014812Z
SUMMARY:DJ Kultur Soest
DESCRIPTION:Wir bringen Menschen zusammen\, die dieselbe Leidenschaft teile
 n – egal ob du seit 20 Jahren auflegst\, Veranstaltungen planst oder ein
 fach neugierig auf die Szene bist. DJ KULTUR ist ein Kollektiv aus DJs\, V
 eranstalter:innen und Interessierten\, das auf Austausch\, gegenseitigen S
 upport und gemeinsames Lernen setzt.<br /><br />\nBeim offenen Treffen spr
 echen wir über alles\, was unsere Szene bewegt\, teilen Erfahrungen und I
 deen\, und geben Einblicke in aktuelle und kommende Workshops.<br /><br />
 \nOpen for everyone – komm vorbei\, bring dich ein\, lern uns kennen.
DTSTART:20261117T183000
DTEND:20261117T220000
LOCATION:KulturQuartier - Spiegelraum\, Ulrichertor 4\, 59494 Soest\, 
END:VEVENT
BEGIN:VTIMEZONE
TZID:Europe/Berlin
BEGIN:STANDARD
DTSTART:20261117T183000
TZNAME:CET
TZOFFSETTO:+0100
TZOFFSETFROM:+0100
END:STANDARD
END:VTIMEZONE
END:VCALENDAR
