BEGIN:VCALENDAR
PRODID:-//eluceo/ical//2.0/EN
VERSION:2.0
CALSCALE:GREGORIAN
BEGIN:VEVENT
UID:d0ebd28d6d00b04c5973420968116bfe
DTSTAMP:20260425T014815Z
SUMMARY:DJ Kultur Soest
DESCRIPTION:Wir bringen Menschen zusammen\, die dieselbe Leidenschaft teile
 n – egal ob du seit 20 Jahren auflegst\, Veranstaltungen planst oder ein
 fach neugierig auf die Szene bist. DJ KULTUR ist ein Kollektiv aus DJs\, V
 eranstalter:innen und Interessierten\, das auf Austausch\, gegenseitigen S
 upport und gemeinsames Lernen setzt.<br /><br />\nBeim offenen Treffen spr
 echen wir über alles\, was unsere Szene bewegt\, teilen Erfahrungen und I
 deen\, und geben Einblicke in aktuelle und kommende Workshops.<br /><br />
 \nOpen for everyone – komm vorbei\, bring dich ein\, lern uns kennen.
DTSTART:20260922T183000
DTEND:20260922T220000
LOCATION:KulturQuartier - Spiegelraum\, Ulrichertor 4\, 59494 Soest\, 
END:VEVENT
BEGIN:VTIMEZONE
TZID:Europe/Berlin
BEGIN:DAYLIGHT
DTSTART:20260922T183000
TZNAME:CEST
TZOFFSETTO:+0200
TZOFFSETFROM:+0200
END:DAYLIGHT
END:VTIMEZONE
END:VCALENDAR
