BEGIN:VCALENDAR
PRODID:-//eluceo/ical//2.0/EN
VERSION:2.0
CALSCALE:GREGORIAN
BEGIN:VEVENT
UID:4ed494512d634db697182b49bd248bf4
DTSTAMP:20260425T025006Z
SUMMARY:Kreativwerkstatt
DESCRIPTION:jeder kann kommen und seine Projekte machen - nähen\, malen\, 
 zeichnen\, collagieren\, bauen\, stricken\, was auch immer. Material und W
 erkzeuge werden mitgebracht und vorhandene Sachen aus dem Quartier stehen 
 zur Verfügung.
DTSTART:20260803T180000
DTEND:20260803T210000
LOCATION:KulturQuartier - Kreativraum\, Ulrichertor 4\, 59494 Soest\, 
END:VEVENT
BEGIN:VTIMEZONE
TZID:Europe/Berlin
BEGIN:DAYLIGHT
DTSTART:20260803T180000
TZNAME:CEST
TZOFFSETTO:+0200
TZOFFSETFROM:+0200
END:DAYLIGHT
END:VTIMEZONE
END:VCALENDAR
