BEGIN:VCALENDAR
PRODID:-//eluceo/ical//2.0/EN
VERSION:2.0
CALSCALE:GREGORIAN
BEGIN:VEVENT
UID:626320a54bdb6b822404249f6926e6a1
DTSTAMP:20260424T172724Z
SUMMARY:Kreativwerkstatt
DESCRIPTION:jeder kann kommen und seine Projekte machen - nähen\, malen\, 
 zeichnen\, collagieren\, bauen\, stricken\, was auch immer. Material und W
 erkzeuge werden mitgebracht und vorhandene Sachen aus dem Quartier stehen 
 zur Verfügung.
DTSTART:20260601T180000
DTEND:20260601T210000
LOCATION:KulturQuartier - Kreativraum\, Ulrichertor 4\, 59494 Soest\, 
END:VEVENT
BEGIN:VTIMEZONE
TZID:Europe/Berlin
BEGIN:DAYLIGHT
DTSTART:20260601T180000
TZNAME:CEST
TZOFFSETTO:+0200
TZOFFSETFROM:+0200
END:DAYLIGHT
END:VTIMEZONE
END:VCALENDAR
