BEGIN:VCALENDAR
PRODID:-//eluceo/ical//2.0/EN
VERSION:2.0
CALSCALE:GREGORIAN
BEGIN:VEVENT
UID:27dc8552191068845b80c03370dcbb4b
DTSTAMP:20260425T035740Z
SUMMARY:Kreativwerkstatt
DESCRIPTION:jeder kann kommen und seine Projekte machen - nähen\, malen\, 
 zeichnen\, collagieren\, bauen\, stricken\, was auch immer. Material und W
 erkzeuge werden mitgebracht und vorhandene Sachen aus dem Quartier stehen 
 zur Verfügung.
DTSTART:20260202T180000
DTEND:20260202T210000
LOCATION:KulturQuartier - Kreativraum\, Ulrichertor 4\, 59494 Soest\, 
END:VEVENT
BEGIN:VTIMEZONE
TZID:Europe/Berlin
BEGIN:STANDARD
DTSTART:20260202T180000
TZNAME:CET
TZOFFSETTO:+0100
TZOFFSETFROM:+0100
END:STANDARD
END:VTIMEZONE
END:VCALENDAR
