BEGIN:VCALENDAR
PRODID:-//eluceo/ical//2.0/EN
VERSION:2.0
CALSCALE:GREGORIAN
BEGIN:VEVENT
UID:fa1752570c4378929d4ef8af6401669c
DTSTAMP:20260425T024956Z
SUMMARY:Stammtisch der Soester Tabletop und TCG Freunde
DESCRIPTION:
DTSTART:20260909T170000
DTEND:20260909T200000
LOCATION:KulturQuartier - Kreativraum\, Ulrichertor 4\, 59494 Soest\, 
END:VEVENT
BEGIN:VTIMEZONE
TZID:Europe/Berlin
BEGIN:DAYLIGHT
DTSTART:20260909T170000
TZNAME:CEST
TZOFFSETTO:+0200
TZOFFSETFROM:+0200
END:DAYLIGHT
END:VTIMEZONE
END:VCALENDAR
