BEGIN:VCALENDAR
PRODID:-//eluceo/ical//2.0/EN
VERSION:2.0
CALSCALE:GREGORIAN
BEGIN:VEVENT
UID:e9bbe8b37da84f39e0d36ac737cd7acd
DTSTAMP:20260424T173045Z
SUMMARY:Stammtisch der Soester Tabletop und TCG Freunde
DESCRIPTION:
DTSTART:20260517T100000
DTEND:20260517T200000
LOCATION:KulturQuartier - Kreativraum\, Ulrichertor 4\, 59494 Soest\, 
END:VEVENT
BEGIN:VTIMEZONE
TZID:Europe/Berlin
BEGIN:DAYLIGHT
DTSTART:20260517T100000
TZNAME:CEST
TZOFFSETTO:+0200
TZOFFSETFROM:+0200
END:DAYLIGHT
END:VTIMEZONE
END:VCALENDAR
