BEGIN:VCALENDAR
PRODID:-//eluceo/ical//2.0/EN
VERSION:2.0
CALSCALE:GREGORIAN
BEGIN:VEVENT
UID:0c6de58ad328fd75a8012be7b77fb1e8
DTSTAMP:20260424T235312Z
SUMMARY:Impro-Theater
DESCRIPTION:
DTSTART:20280531T193000
DTEND:20280531T210000
LOCATION:KulturQuartier - Spiegelraum\, Ulrichertor 4\, 59494 Soest\, 
END:VEVENT
BEGIN:VTIMEZONE
TZID:Europe/Berlin
BEGIN:DAYLIGHT
DTSTART:20280531T193000
TZNAME:CEST
TZOFFSETTO:+0200
TZOFFSETFROM:+0200
END:DAYLIGHT
END:VTIMEZONE
END:VCALENDAR
