BEGIN:VCALENDAR
PRODID:-//eluceo/ical//2.0/EN
VERSION:2.0
CALSCALE:GREGORIAN
BEGIN:VEVENT
UID:3445e0b9eec67816a9ea324d99ab3feb
DTSTAMP:20260425T014938Z
SUMMARY:Wehrhaftes Soest
DESCRIPTION:Diese Führung mit dem Torwächter im historischen Gewand über
 \, um und in die noch zu ca. 2/3 erhaltene Soester- Stadtbefestigung aus d
 er zweiten Hälfte des 12. Jahrhunderts zeigt\, warum es z. B. den Truppen
  des Erzbischofs von Köln mit sämtlichen angeheuerten Söldnern während
  der Soester Fehde von 1444-1449 nicht gelungen ist\, die gut geschützte 
 und wehrhafte Stadt zu erobern.\nSoest verfügte im Mittelalter über enor
 me finanzielle Ressourcen\, mit denen gleichzeitig dieses ca. 3\,8 km lang
 e Bauwerk mit 10 Stadttoren und bis zu 36 Türmen sowie 10 Kirchen\, 25 Ka
 pellen und 3 Klöster gebaut wurden. Nur wenige Städte in Westfalen (und 
 darüber hinaus) hatten eine ähnliche Bedeutung und waren derart befestig
 t.\nDie Tour beginnt am einzigen noch erhaltenen Stadttor aus dem 16. Jahr
 hundert und führt entlang der Stadtmauer durch die Gräfte sowie über de
 n Wall. Neben historischen und technischen Informationen erfahren Sie alle
 rlei Geschichten\, manchmal in derber Sprache\, aus mehr als 800 Jahren. H
 öhepunkt ist die Besichtigung mind. eines Gewölbes in der Bastion. \n\nW
 ichtig: unbedingt festes Schuhwerk und regenfeste Kleidung\, ggf. eine Tas
 chenlampe.
DTSTART:20260628T110000
DTEND:20260628T130000
LOCATION:Osthofentor\, Osthofenstraße 72\, 59494 Soest\, 
END:VEVENT
BEGIN:VTIMEZONE
TZID:Europe/Berlin
BEGIN:DAYLIGHT
DTSTART:20260628T110000
TZNAME:CEST
TZOFFSETTO:+0200
TZOFFSETFROM:+0200
END:DAYLIGHT
END:VTIMEZONE
END:VCALENDAR
