BEGIN:VCALENDAR
PRODID:-//eluceo/ical//2.0/EN
VERSION:2.0
CALSCALE:GREGORIAN
BEGIN:VEVENT
UID:282d24eb6272c55da8aa74a7c51dd9b9
DTSTAMP:20260425T014818Z
SUMMARY:Kleine Schilder - Große Geschichten
DESCRIPTION:Straßenschilder sind mal skurril\, mal amüsant\, sie helfen b
 ei der Orientierung und erzählen manchmal ganze Geschichten. Diese Führu
 ng erläutert die Hintergründe von Soester Straßennamen.
DTSTART:20260419T143000
DTEND:20260419T163000
LOCATION:Teichsmühle\, Teichsmühlengasse 3\, 59494 Soest\, 
END:VEVENT
BEGIN:VTIMEZONE
TZID:Europe/Berlin
BEGIN:DAYLIGHT
DTSTART:20260419T143000
TZNAME:CEST
TZOFFSETTO:+0200
TZOFFSETFROM:+0200
END:DAYLIGHT
END:VTIMEZONE
END:VCALENDAR
