BEGIN:VCALENDAR
PRODID:-//eluceo/ical//2.0/EN
VERSION:2.0
CALSCALE:GREGORIAN
BEGIN:VEVENT
UID:b15e7b54e341b15002ae7252dde180d8
DTSTAMP:20260425T024946Z
SUMMARY:Fast wie im Himmel - Turmfahrt auf die Wiesenkirche
DESCRIPTION:Auf dem Turm gibt es in knapp 60 Metern nicht nur Interessantes
  über die Arbeiten der Dombauhütte zu erfahren\, sondern auch einen gran
 diosen Panoramablick auf Soest und die Soester Börde.
DTSTART:20260503T143000
DTEND:20260503T163000
LOCATION:Wiesenkirche\, Wiesenstraße 26\, 59494 Soest\, 
END:VEVENT
BEGIN:VTIMEZONE
TZID:Europe/Berlin
BEGIN:DAYLIGHT
DTSTART:20260503T143000
TZNAME:CEST
TZOFFSETTO:+0200
TZOFFSETFROM:+0200
END:DAYLIGHT
END:VTIMEZONE
END:VCALENDAR
