BEGIN:VCALENDAR
PRODID:-//eluceo/ical//2.0/EN
VERSION:2.0
CALSCALE:GREGORIAN
BEGIN:VEVENT
UID:b14417b31aee63579f137c63dabdaed8
DTSTAMP:20260424T160431Z
SUMMARY:RadStadt - Tour
DESCRIPTION:Warum nicht einmal per Fahrrad das mittelalterliche Soest entde
 cken? Eine gemütliche Fahrt durch die Gräfte\, die schönen Gassen und m
 it einem Zwischenstopp in einer Kirche verbunden. Die Fahrtstrecke beträg
 t ca. 5km. \nDauer: 2 Stunden
DTSTART:20260426T143000
DTEND:20260426T163000
LOCATION:Teichsmühle\, Teichsmühlengasse 3\, 59494 Soest\, 
END:VEVENT
BEGIN:VTIMEZONE
TZID:Europe/Berlin
BEGIN:DAYLIGHT
DTSTART:20260426T143000
TZNAME:CEST
TZOFFSETTO:+0200
TZOFFSETFROM:+0200
END:DAYLIGHT
END:VTIMEZONE
END:VCALENDAR
