BEGIN:VCALENDAR
PRODID:-//eluceo/ical//2.0/EN
VERSION:2.0
CALSCALE:GREGORIAN
BEGIN:VEVENT
UID:465798a5d5d05a43995f706451aec0b6
DTSTAMP:20260425T014930Z
SUMMARY:Blühendes Soest
DESCRIPTION:Zeit der Soester Baumblüte\n\nRundgang über den Wall\, durch 
 die Gräfte und natürlich mit einem kleinen Abstecher in die romantischen
  Gassen und Winkel der Altstadt.\nDauer: 90 Minuten
DTSTART:20260426T143000
DTEND:20260426T163000
LOCATION:Teichsmühle\, Teichsmühlengasse 3\, 59494 Soest\, 
END:VEVENT
BEGIN:VTIMEZONE
TZID:Europe/Berlin
BEGIN:DAYLIGHT
DTSTART:20260426T143000
TZNAME:CEST
TZOFFSETTO:+0200
TZOFFSETFROM:+0200
END:DAYLIGHT
END:VTIMEZONE
END:VCALENDAR
