BEGIN:VCALENDAR
PRODID:-//eluceo/ical//2.0/EN
VERSION:2.0
CALSCALE:GREGORIAN
BEGIN:VEVENT
UID:6ab936b95aeb21ba7b887995a3291c95
DTSTAMP:20260425T014759Z
SUMMARY:Soest - Gestern und Heute
DESCRIPTION:Vergangenheit und Gegenwart miteinander kombinieren und Soest a
 us einem anderen Blickwinkel erleben.\nDauer: 2 Stunden
DTSTART:20260626T150000
DTEND:20260626T170000
LOCATION:Rathausbögen\, Rathausstraße\, 59494 Soest\, 
END:VEVENT
BEGIN:VTIMEZONE
TZID:Europe/Berlin
BEGIN:DAYLIGHT
DTSTART:20260626T150000
TZNAME:CEST
TZOFFSETTO:+0200
TZOFFSETFROM:+0200
END:DAYLIGHT
END:VTIMEZONE
END:VCALENDAR
