BEGIN:VCALENDAR
PRODID:-//eluceo/ical//2.0/EN
VERSION:2.0
CALSCALE:GREGORIAN
BEGIN:VEVENT
UID:d8f6810baea18d291d253af1fc6a91f3
DTSTAMP:20260425T014854Z
SUMMARY:„Dein Wort ist meines Fußes Leuchte“
DESCRIPTION:Gerade Menschen im Alter tragen ein großes Glaubens-Wissen in 
 sich\, das sie durch ihre religiöse Sozialisation in Kindheit und Jugend 
 vermittelt bekommen haben. Manche dieser Inhalte haben ein Leben lang getr
 agen und sind zu Glaubens-Schätzen geworden\, die gar das Lebens-Fundamen
 t bilden können.\n\nÜber diese Glaubens-Schätze wollen wir ins Gespräc
 h kommen\, sie einander mitteilen\, uns an ihnen stärken und dabei vonein
 ander lernen. Ausgangspunkt wird ein religiöser Text sein\, der zum Gespr
 äch anregen soll.\n\nEingeladen sind Frauen jeglicher Konfession und Reli
 gion. Denn umso erfahrungs- und erkenntnisreicher wird der Austausch sein.
DTSTART:20260326T100000
DTEND:20260326T110000
LOCATION:Lina-Oberbäumer-Haus\, Feldmühlenweg 17\, 59494 Soest\, 
END:VEVENT
BEGIN:VTIMEZONE
TZID:Europe/Berlin
BEGIN:STANDARD
DTSTART:20260326T100000
TZNAME:CET
TZOFFSETTO:+0100
TZOFFSETFROM:+0100
END:STANDARD
END:VTIMEZONE
END:VCALENDAR
