BEGIN:VCALENDAR
PRODID:-//eluceo/ical//2.0/EN
VERSION:2.0
CALSCALE:GREGORIAN
BEGIN:VEVENT
UID:242e26685cd13afe379ee24a6ba0b42a
DTSTAMP:20260425T014907Z
SUMMARY:Mission Ulja Funk
DESCRIPTION:Ulja (12) lebt in einer deutschen Kleinstadt\, ist intelligent\
 , etwas eigensinnig und hegt große Begeisterung für die Wissenschaft. Si
 e hat einen kleinen Asteroiden entdeckt\, der in wenigen Tagen auf die Erd
 e fallen wird. Mit ihrem Wissensdurst bringt sie jedoch regelmäßig ihre 
 streng religiöse Oma Olga auf die Palme\, bis diese eines Tages alles aus
  Uljas Leben verbannt\, was mit Wissenschaft zu tun hat. Weil Ulja nun kei
 ne Möglichkeit mehr hat\, den Asteroiden weiter zu verfolgen\, heuert sie
  Henk\, einen Jungen aus ihrer Klasse an\, sie nach Belarus zu fahren. Zus
 ammen machen sie sich auf eine Reise quer durch Polen\, um den Einschlag s
 elbst zu sehen. Ihnen dicht auf den Fersen: Oma Olga und der Rest der Fami
 lie\, der Pastor und die halbe Gemeinde.<br>Abenteuer\, Family\, DE\,LU\,P
 L\, 2021\, 93Min. <br>Altersfreigabe: ab 6<br>Sprache: D<br>Darsteller: Hi
 ldegard Schrödter\, Jonas Oeßel\, Romy Lou Janinhoff<br>Regie: Barbara K
 onenberg<br>
DTSTART:20260204T143000
DTEND:20260204T173000
LOCATION:Schlachthofkino\, Ulrichertor 4\, 59494 Soest\, 
END:VEVENT
BEGIN:VTIMEZONE
TZID:Europe/Berlin
BEGIN:STANDARD
DTSTART:20260204T143000
TZNAME:CET
TZOFFSETTO:+0100
TZOFFSETFROM:+0100
END:STANDARD
END:VTIMEZONE
END:VCALENDAR
