BEGIN:VCALENDAR
PRODID:-//eluceo/ical//2.0/EN
VERSION:2.0
CALSCALE:GREGORIAN
BEGIN:VEVENT
UID:ee0e0ee7b2ed476b10320d16358df736
DTSTAMP:20260424T134150Z
SUMMARY:Soundgarden Revival Soest - Halle 4
DESCRIPTION:- Sound: Alternative\, Grunge\, Crossover\, Wave\, EBM\n\n- DJ 
 Micky ((z.B. Weberei Gütersloh\, Soundgarden Soest\, Zylinder Herzfeld\, 
 Don Quichotte Lippstadt) und Formaten (Soundgarden Revival\, Depeche Mode 
 & Friends\, Zappelfete\, Pop & Wave etc.). \n\n- Deko mit Tarnnetzen\, Fä
 ssern und mehr\n\n- Dosenbierkühlschrank\n\n- Leute von damals\n\n \n\nUn
 sere Features:\n\n- Bierstunde von 21 bis 22 Uhr (Bier vom Fass: 0\,2 l = 
 1 €).\n\n- 21 bis 22 Uhr alle Softdrinks 50 Prozent günstiger\n\n- Jäg
 ermeister 1\,50 € pro Shot all night long\n\n- Dosenbierpass: 6 trinken-
  5 bezahlen\n\n- Gruppenrabatt (Sechserticket)\n\n- Kleine Halle= schnelle
 r volle Bude\, coole Stimmung\, besserer Sound\n\n \n\nInfos und Tickets: 
 \n\n- www.ticketshalle4.de \n\n- WhatsApp: 01575 5335965\n\n- HEM Tankstel
 le\, Schützestrasse 67\, 59505 Bad Sassendorf\n\n- HEM Tankstelle\, Wisby
 ring 10\, 59494 Soest\n\n- über das Bestellformular weiter unten\n\n- Abe
 ndkasse: 10 € - Vorverkauf 9 € - Sechserticket: 45 € (nur im Vorverk
 auf)\n\n- Kein Mindestverzehr\n\n \n\nUnterstützt das Event durch den Kau
 f von Vorverkaufstickets- es ist einfach wichtig!\n\n \n\nACHTUNG: Die Tic
 kets sind limitiert- wenn weg dann weg!\n\n \n\nTicketbestellung:\n\nWhats
 App: 01575 5335965\n\nMail: ticketshalle4@web.de
DTSTART:20260425T210000
DTEND:20260426T030000
LOCATION:Halle 4\, Riga Ring 4\, 59494 Soest\, 
END:VEVENT
BEGIN:VTIMEZONE
TZID:Europe/Berlin
BEGIN:DAYLIGHT
DTSTART:20260425T210000
TZNAME:CEST
TZOFFSETTO:+0200
TZOFFSETFROM:+0200
END:DAYLIGHT
END:VTIMEZONE
END:VCALENDAR
