BEGIN:VCALENDAR
PRODID:-//eluceo/ical//2.0/EN
VERSION:2.0
CALSCALE:GREGORIAN
BEGIN:VEVENT
UID:cebc5c9c2950f229fee3bb78f9e6906c
DTSTAMP:20260425T042405Z
SUMMARY:La Ultima- Böhse Onkelz Tribute- Könige für eine Nacht- LIVE - H
 alle 4 in Soest
DESCRIPTION:Mit ihrer energiegeladenen Show\, den besten Gassenhauern und r
 aren Perlen der legendären Böhsen Onkelz im Gepäck\, wird es "eine dies
 er Nächte". Lasst euch von den "Ersatzlegenden" mit Kultcharakter in ihre
 n Bann ziehen!\n\n \n\nHard Facts:\n\nDatum: Freitag\, 12.06.2026\n\nEinla
 ss: 19 Uhr/ Start 20 Uhr\n\nOrt: Halle 4\, Riga Ring 4\, 59494 Soest\n\nTi
 cketpreis: VVK 25 €/ AK 30 €\n\nTicketbestellung per WhatsApp: 01575 5
 335965\n\nTicketbestellung per Mail: ticketshalle4@web.de
DTSTART:20260612T200000
DTEND:20260613T020000
LOCATION:Halle 4\, Riga Ring 4\, 59494 Soest\, 
END:VEVENT
BEGIN:VTIMEZONE
TZID:Europe/Berlin
BEGIN:DAYLIGHT
DTSTART:20260612T200000
TZNAME:CEST
TZOFFSETTO:+0200
TZOFFSETFROM:+0200
END:DAYLIGHT
END:VTIMEZONE
END:VCALENDAR
