BEGIN:VCALENDAR
PRODID:-//eluceo/ical//2.0/EN
VERSION:2.0
CALSCALE:GREGORIAN
BEGIN:VEVENT
UID:69d6f5c7940de8b7052ec06d6fc42da0
DTSTAMP:20260425T014841Z
SUMMARY:"DER DUNKLE BRUNNEN" - Preview-Lesung von Thomas Finn
DESCRIPTION:Im Anschluss an den Workshop mit dem deutschen Rollenspiel- und
  Romanautor Thomas Finn im „Haus für Alle“ am Troyesweg in Soest:\n\n
 Preview-Lesung von Thomas Finn\nzum kommenden 3. Band der Simyala-Reihe\n"
 DER DUNKLE BRUNNEN"\n\nEine Veranstaltung von "Westfälische Spieleabenteu
 rer e.V." und der Stadtbücherei Soest
DTSTART:20260220T200000
DTEND:20260220T230000
LOCATION:Stadtbücherei Soest\, Severinstraße 10\, 59494 Soest\, 
END:VEVENT
BEGIN:VTIMEZONE
TZID:Europe/Berlin
BEGIN:STANDARD
DTSTART:20260220T200000
TZNAME:CET
TZOFFSETTO:+0100
TZOFFSETFROM:+0100
END:STANDARD
END:VTIMEZONE
END:VCALENDAR
