BEGIN:VCALENDAR
PRODID:-//eluceo/ical//2.0/EN
VERSION:2.0
CALSCALE:GREGORIAN
BEGIN:VEVENT
UID:b79df0e17403146039a1b4b5eec6eab5
DTSTAMP:20260425T042500Z
SUMMARY:47. Soester Jazznacht | Stevie Wonder-Tribute »WONDER_land« mit 
 »Bebop Brew« als Support | Tag 1
DESCRIPTION:Eröffnungskonzert des zweitägigen Jazz-Festivals mit dem Stev
 ie Wonder-Tribute »WONDER_land« als Top Act und »Bebop Brew« als regio
 nalem Support | In Koop mit JIGS \n\nVVK Freitag 25€ | erm. 10€\nVVK S
 amstag 22€ | erm. 10€ \nKombiticket für beide Tage 40\,10€ | erm. 2
 0€\n\n(ermäßigt = Schüler*innen und Studierende)
DTSTART:20260206T193000
DTEND:20260206T230000
LOCATION:Kulturhaus Alter Schlachthof Soest\, Ulrichertor 4\, 59494 Soest\,
  
END:VEVENT
BEGIN:VTIMEZONE
TZID:Europe/Berlin
BEGIN:STANDARD
DTSTART:20260206T193000
TZNAME:CET
TZOFFSETTO:+0100
TZOFFSETFROM:+0100
END:STANDARD
END:VTIMEZONE
END:VCALENDAR
