BEGIN:VCALENDAR
PRODID:-//eluceo/ical//2.0/EN
VERSION:2.0
CALSCALE:GREGORIAN
BEGIN:VEVENT
UID:6764e5712c128e8ce8bb240fa4a972a6
DTSTAMP:20260425T014832Z
SUMMARY:47. Soester Jazznacht | Tag 2
DESCRIPTION:2. Festivaltag mit mehr als 200 Musiker*innen in 20 Bands auf 5
  Bühnen – 6 Stunden Live-Jazz von Dixie und Swing über Bebop\, Latin u
 nd Cool bis hin zu Funk und Soul | In Koop mit JIGS\n\nVVK Freitag 25€ |
  erm. 10€\nVVK Samstag 22€ | erm. 10€\nKombiticket für beide Tage 4
 0\,10€ | erm. 20€\n\n(ermäßigt = Schüler*innen und Studierende)
DTSTART:20260207T190000
DTEND:20260207T220000
LOCATION:Kulturhaus Alter Schlachthof Soest\, Ulrichertor 4\, 59494 Soest\,
  
END:VEVENT
BEGIN:VTIMEZONE
TZID:Europe/Berlin
BEGIN:STANDARD
DTSTART:20260207T190000
TZNAME:CET
TZOFFSETTO:+0100
TZOFFSETFROM:+0100
END:STANDARD
END:VTIMEZONE
END:VCALENDAR
