BEGIN:VCALENDAR
PRODID:-//eluceo/ical//2.0/EN
VERSION:2.0
CALSCALE:GREGORIAN
BEGIN:VEVENT
UID:99249de26526e63cf057901a5eec2fec
DTSTAMP:20260424T135229Z
SUMMARY:Schlachthof_akustisch: WAIT FOR JUNE
DESCRIPTION:Vielseitiger und detailreicher denn je wandelt die Band WAIT FO
 R JUNE auf den Pfaden von Folk\, \nIndie\, Rock\, Piano-Pop\, ein wenig Fu
 nk und bodenständiger Singer/ Songwriter-Musik\, ohne auch \nnur einen da
 von auszutreten. Die Kombination der Stimmen und der Wechsel der vielen In
 strumente \nbringen eine ungemeine Spannung auf die Bühne. Inhaltlich geh
 t es dabei durchaus mal ans Eingemachte \nund die Band scheut sich nicht\,
  auch unbequeme Fragen zu stellen. Zugleich machen die temporeicheren \nSo
 ngs mit ihren Happy-Sounds aber auch Mut\, wieder nach draußen zugehen un
 d mit der Welt in Kontakt zu treten.\n\n2013 formierte sich die Band aus d
 em hessischen Wetzlar\, um in den Folgejahren zwei EPs und einen \nLongpla
 yer in Eigenregie zu veröffentlichen. Bei mittlerweile weit über 150 Kon
 zerten in ganz\nDeutschland\, der Schweiz\, den Niederlanden und Großbrit
 annien konnten die vier Musiker gerade \ndurch ihre gewinnende Spielfreude
  von sich reden machen. Ihr Markenzeichen: Ausgefeiltes Songwriting\nunter
 stützt durch ein großes Repertoire an Musikinstrumenten\, die die Band a
 bwechselnd einsetzt. \nUnd so ist es auch kein Wunder\, dass die ungewöhn
 liche Mischung ziemlich alles beinhaltet\, was das \nMusikliebhaberherz be
 glückt\, oftmals sogar tanzen lässt! Ebenso besonders ist das Wechselspi
 el beim \nGesang\, das die Songs von WAIT FOR JUNE ausmacht. Verleiht der 
 einen Nummer noch Manuel Sohn \nmit seiner warmen und erdigen Stimmfarbe e
 ine Mischung aus Melancholie und Hoffnung\, übernimmt \nauf der nächsten
  Jule Jochem mit ihrer sanft- süßen\, zugleich aber kräftigen Stimme. D
 abei streben \nWAIT FOR JUNE unermüdlich ihre musikalische Weiterentwickl
 ung an. Im Oktober 2022 erschien das \naktuelle Album HELLO HELLO\, welche
 s erstmals in Zusammenarbeit mit dem Produzenten Mark Ziemann \nentstand. 
 Die gelungene Kooperation spiegelt sich in den vielseitigen und detailreic
 hen Arrangements\nwider und formte die Stärken der vier Bandmitglieder zu
  einem weiteren ausgefeilt-harmonischen Hörerlebnis.
DTSTART:20260425T200000
DTEND:20260425T230000
LOCATION:Kulturhaus Alter Schlachthof Soest\, Ulrichertor 4\, 59494 Soest\,
  
END:VEVENT
BEGIN:VTIMEZONE
TZID:Europe/Berlin
BEGIN:DAYLIGHT
DTSTART:20260425T200000
TZNAME:CEST
TZOFFSETTO:+0200
TZOFFSETFROM:+0200
END:DAYLIGHT
END:VTIMEZONE
END:VCALENDAR
