BEGIN:VCALENDAR
PRODID:-//eluceo/ical//2.0/EN
VERSION:2.0
CALSCALE:GREGORIAN
BEGIN:VEVENT
UID:d6708512703c103888d82abd3f54fa74
DTSTAMP:20260425T014819Z
SUMMARY:Die wilden Kerle 1
DESCRIPTION:Die Sommerferien fangen schlecht an: Erst regnet es in Strömen
 \, so dass die „Wilden Kerle“ gezwungen sind\, zu Hause Fußball zu sp
 ielen. Dabei geht einiges zu Bruch und zur Strafe bekommen die Kicker dire
 kt zu Ferienanfang Hausarrest und Fußballverbot. Schlimmer geht’s nicht
 ? Doch! Ihr Lieblingsplatz\, der Bolzplatz „Teufelstopf“\, wird vom Di
 cken Michi und seiner Bande von üblen\, älteren Jungs\, den „Unbesiegb
 aren Siegern“\, besetzt. Das war´s dann wohl mit dem Lieblingsbolzplatz
 . Doch dann hat Leon eine Idee und setzt sie todesmutig in die Tat um! Er 
 schließt mit den „Unbesiegbaren Siegern“ eine Wette ab: Bei einem Fu
 ßballspiel in 10 Tagen soll entschieden werden\, wem der „Teufelstopf
 “ in Zukunft gehört und wer verschwinden muss. Die Chancen stehen schle
 cht für die „Wilden Kerle“\, ein Match gegen die gefährlichen Schlä
 gertypen vom Dicken Michi unbeschadet zu bestehen\, geschweige denn zu gew
 innen. Selbst Platzwart Willi\, ein Ex-Profifußballer\, sieht für die 
 „Wilden Kerle“ kaum eine Chance\, erklärt sich aber bereit ihnen beim
  Training zu helfen. Doch bevor das knallharte Trainingsprogramm beginnen 
 kann\, müssen die „Wilden Kerle“ erst das Problem mit dem Fußballver
 bot aus der Welt räumen. Dies bleibt nicht das einzige Problem - von nun 
 an passiert eine Katastrophe nach der anderen.<br>Drama\, Abenteuer\, Kom
 ödie\, DE\, 2003\, 96Min. <br>Altersfreigabe: ab 0<br>Sprache: D<br>Darst
 eller: Rufus Beck\, Jimi Blue Ochsenknecht\, Wilson Ochsenknecht\, Uwe Och
 senknecht<br>Regie: Joachim Masannek<br>
DTSTART:20260206T143000
DTEND:20260206T173000
LOCATION:Schlachthofkino\, Ulrichertor 4\, 59494 Soest\, 
END:VEVENT
BEGIN:VTIMEZONE
TZID:Europe/Berlin
BEGIN:STANDARD
DTSTART:20260206T143000
TZNAME:CET
TZOFFSETTO:+0100
TZOFFSETFROM:+0100
END:STANDARD
END:VTIMEZONE
END:VCALENDAR
