BEGIN:VCALENDAR
PRODID:-//eluceo/ical//2.0/EN
VERSION:2.0
CALSCALE:GREGORIAN
BEGIN:VEVENT
UID:74d5208fe42cdb484ebe78d3e430d7e0
DTSTAMP:20260425T014757Z
SUMMARY:Hamnet
DESCRIPTION:Mit HAMNET kehrt Oscar®- Preisträgerin Chloé Zhao auf die gr
 oße Leinwand zurück. In der Verfilmung des gefeierten Romans von Maggie 
 O’Farrell\, die gemeinsam mit Zhao auch das Drehbuch verfasste\, wird di
 e Geschichte von William Shakespeares Familie erzählt. Aus Sicht seiner e
 mpfindsamen Frau Agnes erlebt man\, wie sie sich in den großen Barden ver
 liebt und die beiden ein gemeinsames Leben planen. Als ihr einziger Sohn H
 amnet im Alter von elf Jahren durch die Pest ums Leben kommt\, droht ihre 
 große Liebe zu ersticken. Mitten in dieser furchtbaren persönlichen Trag
 ödie beginnt Shakespeare in tiefer Verzweiflung und Trauer\, „Hamlet“
  zu schreiben\, eines der großen Dramen der Literaturgeschichte.<br>Drama
 \, UK\, 2025\, 126Min. <br>Altersfreigabe: ab 12<br>Sprache: D<br>Darstell
 er: Jessie Buckley\, Pual Mescal\, Emely Watson<br>Regie: Chloe Zhao<br>
DTSTART:20260213T200000
DTEND:20260213T230000
LOCATION:Schlachthofkino\, Ulrichertor 4\, 59494 Soest\, 
END:VEVENT
BEGIN:VTIMEZONE
TZID:Europe/Berlin
BEGIN:STANDARD
DTSTART:20260213T200000
TZNAME:CET
TZOFFSETTO:+0100
TZOFFSETFROM:+0100
END:STANDARD
END:VTIMEZONE
END:VCALENDAR
