BEGIN:VCALENDAR
PRODID:-//eluceo/ical//2.0/EN
VERSION:2.0
CALSCALE:GREGORIAN
BEGIN:VEVENT
UID:5526f4c83cb5d3d166d4338fd5e6c806
DTSTAMP:20260425T014843Z
SUMMARY:Die Gangster Gang 2
DESCRIPTION:Unsere Lieblings-Gangster sind zurück – und diesmal haben si
 e Gesellschaft! Im brandneuen\, actiongeladenen Abenteuer der gefeierten A
 ntihelden von DreamWorks Animation steht die chaotische\, nun geläuterte 
 Gangster Gang endlich auf der guten Seite – wirklich\, sie versuchen es!
  Doch landen die tierischen Langfinger kopfüber im kriminellen Chaos eine
 s weltweiten Mega-Coups\, ausgeklügelt von einer höchst gerissenen Trupp
 e von Ganovinnen\, mit denen niemand gerechnet hat: den Gangster Girls! Ch
 armant stilisierte Animation\, die viel Sorgfalt auf die Gestaltung der Ch
 araktere legt!<br>Animation\, Action\, US\, 2024\, 104Min. <br>Altersfreig
 abe: ab 6<br>Sprache: D<br>Darsteller: Sam  Rockwell\, Marc  Maron\, Craig
   Robinson<br>Regie: Pierre  Perifel\, JP  Sans<br>
DTSTART:20260218T143000
DTEND:20260218T173000
LOCATION:Schlachthofkino\, Ulrichertor 4\, 59494 Soest\, 
END:VEVENT
BEGIN:VTIMEZONE
TZID:Europe/Berlin
BEGIN:STANDARD
DTSTART:20260218T143000
TZNAME:CET
TZOFFSETTO:+0100
TZOFFSETFROM:+0100
END:STANDARD
END:VTIMEZONE
END:VCALENDAR
