BEGIN:VCALENDAR
PRODID:-//eluceo/ical//2.0/EN
VERSION:2.0
CALSCALE:GREGORIAN
BEGIN:VEVENT
UID:b9c6bc01ca1a07e3251abf088c1cba89
DTSTAMP:20260425T014944Z
SUMMARY:Bibi Blocksberg - das große Hexentreffen
DESCRIPTION:Die Neustädter Junghexe Bibi st ganz aus dem Häuschen: Der gr
 oße Hexenkongress steigt – und das auf dem Blocksberg! Klar wie Kartoff
 elbrei\, dass sie zusammen mit Schubia und Flauipaui als Helferin mit dabe
 i sein will. Doch kaum sind die ersten Hexen gelandet\, geht alles drunter
  und drüber: Hexsprüche enden im Durcheinander\, die Althexen spielen pl
 ötzlich verrückt und der ganze Hexenkongress gerät aus dem Ruder! Jetzt
  brauchen die Junghexen Mut\, Fantasie und eine ordentliche Portion Freund
 schaft\, um das Chaos zu stoppen und die Zukunft der Hexenwelt zu retten
 …<br>Familienfilm\, DE\, 2025\, 89Min. <br>Altersfreigabe: ab 0<br>Sprac
 he: D<br>Darsteller: Carla Demmin\, Balthazar Gyan Alexis Kuppuswamy\, Phi
 lomena Amari\, NALA .<br>Regie: Gregor Schnitzler<br>
DTSTART:20260220T143000
DTEND:20260220T173000
LOCATION:Schlachthofkino\, Ulrichertor 4\, 59494 Soest\, 
END:VEVENT
BEGIN:VTIMEZONE
TZID:Europe/Berlin
BEGIN:STANDARD
DTSTART:20260220T143000
TZNAME:CET
TZOFFSETTO:+0100
TZOFFSETFROM:+0100
END:STANDARD
END:VTIMEZONE
END:VCALENDAR
