BEGIN:VCALENDAR
PRODID:-//eluceo/ical//2.0/EN
VERSION:2.0
CALSCALE:GREGORIAN
BEGIN:VEVENT
UID:030623bd5e8628cab6819bc4779840b1
DTSTAMP:20260425T014806Z
SUMMARY:Ein Kuchen für den Präsidenten
DESCRIPTION:Der Irak in der 90er-Jahren. Während Diktator Saddam Hussein t
 rotz Not und Mangel seinen Geburtstag landesweit feiern lässt\, zieht die
  9-jährige Lamia in ihrer Schule ein gefürchtetes Los: Sie muss den Kuch
 en für die örtlichen Feierlichkeiten backen. Es ist eine fast unlösbare
  Aufgabe\, denn im Land sind alle Lebensmittel knapp. Eier\, Zucker und Me
 hl sind es erst recht. Doch sie muss es schaffen\, sonst drohen ihrer Fami
 lie harte Strafen.\nMit nur zwei Tagen Zeit\, der Unterstützung ihres Kla
 ssenkameraden Saeed und begleitet von ihrem Hahn Hindi bricht sie auf\, um
  in der nächsten Stadt die Zutaten aufzutreiben. Es ist eine abenteuerlic
 he Suche durch eine Welt voller Ungewissheit und Entbehrung\, aber auch kl
 einer Wunder\, in der Lamia immer wieder Momente von Humor\, Freundschaft 
 und Hoffnung erlebt.\nEinen Kuchen für den Präsidenten backen\, während
  das Land hungert? Aus dieser einfachen Prämisse entwickelt Autor und Reg
 isseur Hasan Hadi einen bewegenden und bittersüßen Abenteuerfilm\, in de
 m kindliche Unschuld auf die harsche Wirklichkeit eines unterdrückten Lan
 des trifft. Und in dem die Menschlichkeit immer wieder kleine\, aber entsc
 heidende Siege erringt.\nHadi verarbeitet mit seinem Debütfilm seine eige
 ne Kindheit in den betörend schönen Marschlandschaften des Südirak und 
 erzählt sie mit einem reinen Laien-Ensemble\, in dem die kleine Baneen Ah
 med Nayyef alle überragt. Ihr Herz\, Optimismus und unterschwelliger Humo
 r tragen die Reise der kleinen Lamia\, die nicht aufgibt und gegen alle Wi
 derstände in der männerdominierten Welt ihren Weg geht.\n\nAm Dienstag 2
 4.2. findet die Vorstellung im Rahmen des Strick:Kinos statt. Bei gedimmte
 m Licht darf nach Herzenslust gestrickt\, gehäkelt oder ähnlicher Handar
 beit nachgegangen werden.<br>Drama\, IQ\, QA\, US\, 2025\, 105Min. <br>Alt
 ersfreigabe: ab 6<br>Sprache: D<br>Darsteller: Baneen Ahmad\, Sajad Mohama
 d<br>Regie: Hasan  Hadi<br>
DTSTART:20260225T170000
DTEND:20260225T200000
LOCATION:Schlachthofkino\, Ulrichertor 4\, 59494 Soest\, 
END:VEVENT
BEGIN:VTIMEZONE
TZID:Europe/Berlin
BEGIN:STANDARD
DTSTART:20260225T170000
TZNAME:CET
TZOFFSETTO:+0100
TZOFFSETFROM:+0100
END:STANDARD
END:VTIMEZONE
END:VCALENDAR
