BEGIN:VCALENDAR
PRODID:-//eluceo/ical//2.0/EN
VERSION:2.0
CALSCALE:GREGORIAN
BEGIN:VEVENT
UID:d24904639f21e60e8583834c417421c5
DTSTAMP:20260424T233205Z
SUMMARY:No other choice
DESCRIPTION:Man-su hat sich mit viel Fleiß und harter Arbeit ein perfektes
  Leben geschaffen: Haus mit Garten\, harmonische Ehe\, talentierte Kinder 
 und genug Zeit für sein geliebtes Bonsai-Hobby. Doch als KI plötzlich se
 inen Job ersetzt\, müssen er und seine Familie auf allerlei Annehmlichkei
 ten verzichten: die Tennisstunden der Gattin\, das Netflix-Abo der Kinder 
 und selbst die zwei treuen Golden Retriever können sie sich nicht mehr le
 isten. Und je länger Man-su vergeblich Bewerbungen schreibt\, desto nähe
 r rückt auch der Verlust des geliebten Hauses. Schließlich begreift er: 
 Nicht der Mangel an Jobs ist das Problem\, sondern die Menge an Mitbewerbe
 rn. Man-su bleibt keine andere Wahl\, als sich – auf sehr kreative Art u
 nd Weise – seiner Konkurrenten zu entledigen.\n\nPark Chan-wook (OLDBOY\
 , DIE TASCHENDIEBIN) zählt neben Bong Joon-ho (PARASITE) zu den großen M
 eistern kluger und kunstvoller Unterhaltung aus Südkorea. NO OTHER CHOICE
  ist ein bitterböses Vergnügen\, eine messerscharfe Symphonie des Absurd
 en – visuell brillant und beißend komisch. In der Hauptrolle glänzt Le
 e Byung-hun (SQUID GAME) als Mittelschichtskarrierist ohne Hemmungen\, abe
 r mit blutig-grünem Daumen. Ein wildes Kinoerlebnis voller unvorhersehbar
 en Wendungen\, das seine Weltpremiere bei den Filmfestspielen von Venedig 
 2025 feierte und sich schon jetzt auf direktem Weg zum Kultfilm befindet.<
 br>Komödie\, Drama\, Thriller\, KR\, 2025\, 139Min. <br>Altersfreigabe: a
 b 16<br>Sprache: D<br>Darsteller: Lee Byung-hun\, Yeom Hye-ran\, Son Ye-ji
 n<br>Regie: Park Chan-wook\, Chan-Wook Park<br>
DTSTART:20260228T200000
DTEND:20260228T230000
LOCATION:Schlachthofkino\, Ulrichertor 4\, 59494 Soest\, 
END:VEVENT
BEGIN:VTIMEZONE
TZID:Europe/Berlin
BEGIN:STANDARD
DTSTART:20260228T200000
TZNAME:CET
TZOFFSETTO:+0100
TZOFFSETFROM:+0100
END:STANDARD
END:VTIMEZONE
END:VCALENDAR
