BEGIN:VCALENDAR
PRODID:-//eluceo/ical//2.0/EN
VERSION:2.0
CALSCALE:GREGORIAN
BEGIN:VEVENT
UID:f343990a11dadcde5a2923ece5d59820
DTSTAMP:20260425T014910Z
SUMMARY:Finissage: "(im)prévu" und weitere
DESCRIPTION:Nutzen Sie die letztmalige Gelegenheit zum Besuch unserer Ausst
 ellung (im)prévu im RAUM SCHROTH!\nSie zeigt französische Künstlerinnen
  und Künstler aus dem Herz der Sammlung Schroth und geht dabei der Frage 
 nach Möglichkeiten der künstlerischen Konzeption nach. Von fest definier
 ten Gestaltungselementen und systematischem Aufbau über freies Experiment
  bis hin zum Zufall nutzen diese Künstler*innen Methoden zwischen planvol
 lem Ansatz und Offenheit für Unvorhergesehenes.\n\nEbenfalls am 8. Februa
 r endet mit There’s a Softness about the Night die Ausstellung der Wilhe
 lm-Morgner-Stipendiatin 2024\, Sarah Dietz\, sowie Schattenfiguren und Lic
 htgrau – Das Künstlerpaar Gisela und Hermann Bachmann. \n\nWir laden Si
 e daher um 15 Uhr zu einer gemeinsamen Finissage mit Führungen\, Katalogv
 orstellung und Gesprächen ein.
DTSTART:20260208T150000
DTEND:20260208T170000
LOCATION:RAUM SCHROTH\, Thomästraße 1\, 59494 Soest\, 
END:VEVENT
BEGIN:VTIMEZONE
TZID:Europe/Berlin
BEGIN:STANDARD
DTSTART:20260208T150000
TZNAME:CET
TZOFFSETTO:+0100
TZOFFSETFROM:+0100
END:STANDARD
END:VTIMEZONE
END:VCALENDAR
