BEGIN:VCALENDAR
PRODID:-//eluceo/ical//2.0/EN
VERSION:2.0
CALSCALE:GREGORIAN
BEGIN:VEVENT
UID:0e645302b7afafee008a36ac13810f5c
DTSTAMP:20260425T014930Z
SUMMARY:HEINO - Made in Germany
DESCRIPTION:Ersatztermin für das am 19.01.2026 ursprünglich geplante Konz
 ert. Bereits gekaufte Tickets behalten ihre Gültigkeit.\n\nErleben Sie De
 utschlands musikalische Legende HEINO auf großer Konzert-Hit-Tournee! \n\
 nUnter dem Titel „HEINO – Made in Germany“ bringt der Kult-Star sein
 e größten Hits auf die Bühne und begeistert mit einer Mischung aus Schl
 ager- und Volksliedern\, sowie einigen musikalischen Überraschungen.\n \n
 Freuen Sie sich auf unvergessliche Evergreens wie „Rosamunde“\, „Kar
 amba\, Karacho\, ein Whisky“\, „Blau blüht der Enzian“\, „Die sch
 warze Barbara“ und „La Paloma“. Doch damit nicht genug: Nach langer 
 Zeit erklingt auch wieder der Publikumshit „Junge“ auf der Bühne\, ei
 n Titel aus Heinos Ausflug in die Rock-Szene!\n\nEin weiterer Höhepunkt: 
 Erstmals präsentiert Heino auf der Bühne die deutsche Nationalhymne – 
 ein bewegender Moment\, der garantiert für Gänsehaut sorgen wird. \n\nMi
 t 86 Jahren beweist Heino einmal mehr\, warum er als „der letzte Punk“
  gilt – zeitlos\, authentisch\, standhaft und voller Energie. \n\nSeine 
 Stimme\, sein Charisma und sein unvergleichlicher musikalischer Stil ziehe
 n die Zuschauer seit Jahrzehnten in den Bann. Bei ihm zählt Ihre Stimme! 
 Ob Jung oder Alt\, bei Heino sind Sie richtig\, wenn Sie deutsche Musik li
 eben!\n\nSichern Sie sich gute Laune\, gute Stimmung und ein einzigartiges
  Showerlebnis.
DTSTART:20260327T190000
DTEND:20260327T220000
LOCATION:Stadthalle Soest\, Dasselwall 1\, 59494 Soest\, 
END:VEVENT
BEGIN:VTIMEZONE
TZID:Europe/Berlin
BEGIN:STANDARD
DTSTART:20260327T190000
TZNAME:CET
TZOFFSETTO:+0100
TZOFFSETFROM:+0100
END:STANDARD
END:VTIMEZONE
END:VCALENDAR
