BEGIN:VCALENDAR
PRODID:-//eluceo/ical//2.0/EN
VERSION:2.0
CALSCALE:GREGORIAN
BEGIN:VEVENT
UID:e760d6c673538072f22b2146d9a46f99
DTSTAMP:20260424T160441Z
SUMMARY:Soundgarden Revival - Halle 4 Werk 2 in Soest (kleine Halle) - Auth
 entisch & limitiert
DESCRIPTION:...and the Rock goes on ....\n\n- Sound: Alternative\, Grunge\,
  Crossover\, Wave\, EBM\, Punk\n- DJ Micky (z.B. Weberei Gütersloh\, Soun
 dgarden Soest\, Zylinder Herzfeld\, Don Quichotte Lippstadt).\n- Deko mit 
 Tarnnetzen\, Fässern und mehr\n- Dosenbierkühlschrank\n- Leute von damal
 s\n\nUnsere Features:\n- Bierstunde von 21 bis 22 Uhr (Bier vom Fass: 0\,2
  l = 1\,50 €).\n- Von 21 bis 22 Uhr alle Softdrinks für die Hälfte\n- 
 Jägermeister 1\,50 € pro Shot all night long\n- Dosenbierpass: 6 trinke
 n- 5 bezahlen\n- Biersorten: Krombacher\, Potts\, Heineken\, Astra etc.\n-
  Gruppenrabatt (Sechserticket)\n- Kleine Halle= schneller volle Bude\, coo
 le Stimmung\, besserer Sound\n\nInfos und Tickets:\n- www.ticketshalle4.de
 \n- WhatsApp: 01575 5335965\n- Per Mail: ticketshalle4@web.de\n- HEM Tanks
 telle\, Schützenstrasse 67\, 59505 Bad Sassendorf\nhttps://www.facebook.c
 om/profile.php?id=100063557199773\n- HEM Tankstelle\, Wisbyring 10\, 59494
  Soest\n- Per Messenger\n- Abendkasse: 10 €\n- Vorverkauf 9 €\n- Ab 6 
 Personen 7\,50 €\n- Kein Mindestverzehr\n\nUnterstützt das Event durch 
 den Kauf von Vorverkaufstickets- es ist einfach wichtig!\n\nACHTUNG: Die T
 ickets sind limitiert- wenn weg dann weg!\n\nDatum: Samstag\, 25.04.2026 a
 b 21 Uhr\nOrt: Halle 4\, Riga Ring 6\, 59494 Soest (da wo immer schon die 
 Disco war).\n\nUnterstützt das Event durch Teilen\, Erzählen\, Freunde m
 itschleppen usw. Danke schon jetzt.
DTSTART:20260425T210000
DTEND:20260426T030000
LOCATION:Halle 4\, Riga Ring 4\, 59494 Soest\, 
END:VEVENT
BEGIN:VTIMEZONE
TZID:Europe/Berlin
BEGIN:DAYLIGHT
DTSTART:20260425T210000
TZNAME:CEST
TZOFFSETTO:+0200
TZOFFSETFROM:+0200
END:DAYLIGHT
END:VTIMEZONE
END:VCALENDAR
