BEGIN:VCALENDAR
PRODID:-//eluceo/ical//2.0/EN
VERSION:2.0
CALSCALE:GREGORIAN
BEGIN:VEVENT
UID:6b8f69e4990ede52e3747733f79e076e
DTSTAMP:20260425T014858Z
SUMMARY:Stefan Danziger | Mittel und Wege
DESCRIPTION:In seinem neuen Programm gibt Stefan Danziger einen skurrilen E
 inblick in die Geschichte\nOsteuropas. Nette Wikinger\, ein polyamoröser 
 Iwan der Schreckliche oder warum ein\nkleiner KGB-Mann den Spitznamen "Mr.
  Hexogen" bekommen hat. Es geht um die\nSonnenblume\, mit der er den Kolon
 ialismus der Neuzeit in Europa erklärt und was die\nDeutschen damit zu tu
 n haben.\nGleichzeitig beleuchtet er seinen Alltag als Vater und vergleich
 t ihn mit seiner Kindheit im\nOstblock voller Spione und Doppelagenten. Ei
 ne irre Reise durch seine Gedankenwelt\, voller\nlustiger Anekdoten\, übe
 rraschender Fakten der Geschichte Osteuropas\, der Banalitäten des\nAllta
 gs sowie Bienen und Katzen.\n\n\nTickets unter anderem bei Eventim erhält
 lich (unten verlinkt).
DTSTART:20260410T200000
DTEND:20260410T223000
LOCATION:Kulturhaus Alter Schlachthof Soest\, Ulrichertor 4\, 59494 Soest\,
  
END:VEVENT
BEGIN:VTIMEZONE
TZID:Europe/Berlin
BEGIN:DAYLIGHT
DTSTART:20260410T200000
TZNAME:CEST
TZOFFSETTO:+0200
TZOFFSETFROM:+0200
END:DAYLIGHT
END:VTIMEZONE
END:VCALENDAR
