BEGIN:VCALENDAR
PRODID:-//eluceo/ical//2.0/EN
VERSION:2.0
CALSCALE:GREGORIAN
BEGIN:VEVENT
UID:55e7cba366263e105bf34d4af52e02fb
DTSTAMP:20260425T035850Z
SUMMARY:Astrid Lindgren - Die Menschheit hat den Verstand verloren
DESCRIPTION:DIE MENSCHHEIT HAT DEN VERSTAND VERLOREN erzählt mit dokumenta
 rischen und szenischen Bildern aus der Sicht von Astrid Lindgren und ihrer
  Tochter Karin\, ihrer Enkelin Annika und ihrem Großenkel Johan anhand de
 r Kriegstagebücher die wahre Geschichte hinter dem Erfolg der Weltautorin
 . Dabei gehen die Nachkommen bei der Lektüre und in Gesprächen miteinand
 er auch den schmerzhaften Ereignissen im privaten Leben Astrid Lindgrens n
 ach. \n\nAstrid Lindgren\, die vor allem durch ihre Kinderbücher wie „P
 ippi Langstrumpf“\, „Michel aus Lönneberga“ und „Ronja Räubertoc
 hter“ bekannt wurde\, prägte mit ihren Werken Generationen von Leser*in
 nen. DIE MENSCHHEIT HAT DEN VERSTAND VERLOREN nähert sich der Autorin auf
  neue Weise\, widmet sich ihren Tagebüchern\, die zwischen 1939-1945 ents
 tanden sind und erzählt von der noch unbekannten Astrid Lindgren als Chro
 nistin des Zweiten Weltkriegs. \nDie erst 2015 veröffentlichten und in me
 hr als 20 Sprachen übersetzen Kriegstagebücher von Astrid Lindgren lagen
  70 Jahre lang in ihrem Schlafzimmer im Wäscheschrank verborgen. Sie sind
  eine einzigartige Dokumentation aus der Sicht einer Mutter und frühen Fe
 ministin der Schrecken von Diktatur und Terror – und appellieren leidens
 chaftlich an Mitmenschlichkeit\, Frieden und Gleichberechtigung.<br>Dokume
 ntarfilm\, Drama\, SE\, DE\, 2025\, 99Min. <br>Altersfreigabe: ab 6<br>Spr
 ache: D<br>Darsteller: Tom Sommerlatte\, Karin Nyman\, Johan Palmberg\, An
 nika Lindgren\, Sofia Pekkari\, Lennard Leiste\, Ida Malene Schütte\, Edd
 a Braune<br>Regie: Wilfried Hauke<br>
DTSTART:20260208T170000
DTEND:20260208T200000
LOCATION:Schlachthofkino\, Ulrichertor 4\, 59494 Soest\, 
END:VEVENT
BEGIN:VTIMEZONE
TZID:Europe/Berlin
BEGIN:STANDARD
DTSTART:20260208T170000
TZNAME:CET
TZOFFSETTO:+0100
TZOFFSETFROM:+0100
END:STANDARD
END:VTIMEZONE
END:VCALENDAR
