BEGIN:VCALENDAR
PRODID:-//eluceo/ical//2.0/EN
VERSION:2.0
CALSCALE:GREGORIAN
BEGIN:VEVENT
UID:4b1873d3dec547584405886fba0d7204
DTSTAMP:20260424T233215Z
SUMMARY:Der Held vom Bahnhof Friedrichstraße
DESCRIPTION:Der Film erzählt die Geschichte vom kurz vor der Pleite stehen
 den Berliner Videothekenbesitzer Micha Hartung\, der ungewollt zum gesamtd
 eutschen Helden wird: Als ihn zum 30. Jahrestag des Mauerfalls ein Journal
 ist zum Drahtzieher der größten Massenflucht der DDR stilisiert\, steht 
 sein Leben plötzlich Kopf. Als Hochstapler wider Willen verstrickt sich M
 icha in einem Gestrüpp aus Halbwahrheiten und handfesten Lügen. Und als 
 das fragile Kartenhaus der Geschichte um ihn herum einzustürzen droht und
  sein Leben so richtig im Chaos versinkt\, trifft er Paula. Dass eine erfo
 lgreiche\, kluge und witzige Frau wie sie sich für einen Mann wie ihn int
 eressieren könnte\, hätte Micha nicht für möglich gehalten. Doch die s
 ich anbahnende Liebesgeschichte wird von der Lüge überschattet.\n\nEine 
 herzenswarme Komödie über Geschichte als Mythos\, die Tücken Deutscher 
 Erinnerungskultur und das Leben als Spiel des Erinnerns\, Vergessens und E
 rfindens. Ein vergnügliches Lehrstück über die Hierarchie der Geschicht
 sschreibung und ein Film über die Kraft des Geschichtenerzählens.\n\nAm 
 12. Dezember 2024 ist Wolfgang Becker kurz nach Ende der Dreharbeiten von 
 DER HELD VOM BAHNHOF FRIEDRICHSTRAßE verstorben. X Verleih ehrt den Erfol
 gsregisseur\, der mit „Good Bye\, Lenin!“ Kinogeschichte geschrieben h
 at\, nun genau ein Jahr nach seinem Tod mit dem Kinostart seines letzten F
 ilms\, DER HELD VOM BAHNHOF FRIEDRICHSTRAßE\, den seine künstlerischen W
 egbegleiter\, Regisseur Achim von Borries und Produzent Stefan Arndt\, in 
 Wolfgang Beckers Sinne zu Ende gebracht haben.<br>Drama\, Komödie\, DE\, 
 2025\, 113Min. <br>Altersfreigabe: ab 6<br>Sprache: D<br>Darsteller: Charl
 y Hübner\, Christiane  Paul\, Leon Ullrich\, Annabelle Mandeng<br>Regie: 
 Wolfgang Becker<br>
DTSTART:20260228T170000
DTEND:20260228T200000
LOCATION:Schlachthofkino\, Ulrichertor 4\, 59494 Soest\, 
END:VEVENT
BEGIN:VTIMEZONE
TZID:Europe/Berlin
BEGIN:STANDARD
DTSTART:20260228T170000
TZNAME:CET
TZOFFSETTO:+0100
TZOFFSETFROM:+0100
END:STANDARD
END:VTIMEZONE
END:VCALENDAR
