BEGIN:VCALENDAR
PRODID:-//eluceo/ical//2.0/EN
VERSION:2.0
CALSCALE:GREGORIAN
BEGIN:VEVENT
UID:eeba72e87376c183913dcbd1668de965
DTSTAMP:20260424T233225Z
SUMMARY:Wickie auf großer Fahrt
DESCRIPTION:Als der schreckliche Sven den Häuptling von Flake entführt\, 
 schlägt unverhofft Wickies große Stunde.\nAls stellvertretender Häuptli
 ng führt er die starken Männer Tjure\, Snorre\, Urobe\, Gorm\, Ulme und 
 Faxe an und bekommt dabei Unterstützung von der furchtlosen Svenja. Sie n
 ehmen Kurs aufs Kap der Angst und gelangen nach turbulenten Abenteuern zu 
 Svens Burg\, aus der Halvar befreit werden muss.\n\nDie größte Aufgabe s
 teht den Wikingern aber noch bevor: Über stürmische Ozeane\, tropische S
 trände und durch gefährliche Eiswüsten machen sie sich auf die Suche na
 ch dem sagenumwobenen Schatz der Götter. Auch der schreckliche Sven setzt
  alles daran\, ihn zu bekommen\, aber Wickie wäre nicht Wickie\, wenn er 
 dies nicht mit schlauen Einfällen zu verhindern wüsste.<br>Kinderfilm\, 
 Abenteuer\, DE\, 2011\, 96Min. <br>Altersfreigabe: ab 0<br>Sprache: D<br>D
 arsteller: Jonas  Hämmerle\, Valeria  Eisenbart\, Waldemar  Kobus\, Günt
 her  Kaufmann\, Nic  Romm<br>Regie: Christian  Ditter<br>
DTSTART:20260301T143000
DTEND:20260301T173000
LOCATION:Schlachthofkino\, Ulrichertor 4\, 59494 Soest\, 
END:VEVENT
BEGIN:VTIMEZONE
TZID:Europe/Berlin
BEGIN:STANDARD
DTSTART:20260301T143000
TZNAME:CET
TZOFFSETTO:+0100
TZOFFSETFROM:+0100
END:STANDARD
END:VTIMEZONE
END:VCALENDAR
