BEGIN:VCALENDAR
PRODID:-//eluceo/ical//2.0/EN
VERSION:2.0
CALSCALE:GREGORIAN
BEGIN:VEVENT
UID:07341f45818fd22d59b43e7b85852458
DTSTAMP:20260424T194435Z
SUMMARY:Alles voller Monster
DESCRIPTION:In einem Schloss hoch über einer kleinen Stadt erweckt ein ver
 rückter Professor monströse Kreaturen zum (Fast)-Leben... und vergisst s
 ie dann prompt wieder. Wer kümmert sich also um das Schloss? Wer kümmert
  sich um die Monster – die in ständiger Angst vor den Menschen leben? W
 er bringt ihnen bei\, NICHT monströs zu sein\, damit die Dorfbewohner nic
 ht auf sie aufmerksam werden und eine wütende Meute bilden\, um das Schlo
 ss niederzubrennen? Stichkopf - die allererste Kreation des Professors. St
 ichkopf macht die ganze Arbeit - aber der Professor bemerkt ihn nicht einm
 al. Bis eines Tages der „Fahrende Jahrmarkt unnatürlicher Wunder" des z
 wielichtigen Zirkusdirektors Fulbert Freakfinder in die Stadt zieht. Der b
 raucht dringend eine neue Attraktion\, um die Massen anzulocken. Bald steh
 t er vor dem Schlosstor und verspricht Stichkopf Ruhm\, Reichtum und Liebe
 ...\nEine kindgerechte\, sorgfältig umgesetzte Animationsadaption der Gra
 phic Novel von Guy Bass\, die vor allem mit ausgelassenem Slapstick und kn
 allbunten Kreaturen punktet.<br>Animation\, Komödie\, DE\, LU\, 2025\, 92
 Min. <br>Altersfreigabe: ab 6<br>Sprache: D<br>Darsteller: Felix  Auer\, G
 erhard  Jilka\, Waldemar  Kobus<br>Regie: Steve  Hudson<br>
DTSTART:20260307T143000
DTEND:20260307T173000
LOCATION:Schlachthofkino\, Ulrichertor 4\, 59494 Soest\, 
END:VEVENT
BEGIN:VTIMEZONE
TZID:Europe/Berlin
BEGIN:STANDARD
DTSTART:20260307T143000
TZNAME:CET
TZOFFSETTO:+0100
TZOFFSETFROM:+0100
END:STANDARD
END:VTIMEZONE
END:VCALENDAR
